BEGIN:VCALENDAR
VERSION:2.0
PRODID:-//World Dominating Brand - ECPv5.5.0//NONSGML v1.0//EN
CALSCALE:GREGORIAN
METHOD:PUBLISH
X-WR-CALNAME:World Dominating Brand
X-ORIGINAL-URL:https://www.worlddominatingbrand.com
X-WR-CALDESC:Events for World Dominating Brand
BEGIN:VTIMEZONE
TZID:America/New_York
BEGIN:DAYLIGHT
TZOFFSETFROM:-0500
TZOFFSETTO:-0400
TZNAME:EDT
DTSTART:20210314T070000
END:DAYLIGHT
BEGIN:STANDARD
TZOFFSETFROM:-0400
TZOFFSETTO:-0500
TZNAME:EST
DTSTART:20211107T060000
END:STANDARD
END:VTIMEZONE
BEGIN:VEVENT
DTSTART;TZID=America/New_York:20210330T130000
DTEND;TZID=America/New_York:20210330T140000
DTSTAMP:20260424T131830
CREATED:20210327T142333Z
LAST-MODIFIED:20210909T151923Z
UID:1743-1617109200-1617112800@www.worlddominatingbrand.com
SUMMARY:World Dominating Circle - Collaborative Work Space
DESCRIPTION:🤘World Dominating™ Circle🤘\nand YOU’RE Invited ❤️\n\nTUESDAYS\, 1 pm EST / 10 am PST\n• Business Building and Scaling Mini Workshop \n• Breakout Room Feedback and Mastermind-ing \n• Collaboration with Like-Minded Entrepreneurs \n  \nOpen to the Public\n\nSeptember 13th Topic\n💰😎 How To Triple Your Income With High Ticket Products  🤑🤯\n\nThis Week’s Focus\nPart 4\nRecap\nIt’s time to get serious about growing your revenue! One of the best ways to triple your income is to focus on selling your high ticket product. It may sound intimidating\, but it will be so worth the payoff!  \nHere are 3 steps to tripling your income with your high ticket product: \n• Teach to your high ticket product – When you’re teaching from stages\, on Facebook live\, or even in person\, teach to your high-end product. This will educate your audience on the results it can get them while establishing value along the way. \n• Deliver pieces of your high ticket product within your other products – Sprinkle some of the tactics and strategies from your high ticket product into the other experience you offer. This will give your clients a taste of your high-end services\, making it easier for them to say “yes” when you have a sales conversation. \n• Prescribe your high ticket product – Too many entrepreneurs forget to prescribe their high ticket product on discovery calls because they’re afraid they’ll give their leads “sticker shock”. But this will only shut down revenue opportunities for you and hold your clients back from the results you can get them. \nWanna know even more of those secrets? Come play!\nTODAY!\nTUESDAYS\, 1 pm EST / 10 am PST\nOpen to the Public\n\n  \nAlternative Zoom Access: \nJoin Zoom Meeting \nhttps://zoom.us/j/97178293185?pwd=TXJreWRmVThiSWFydEo3Qjg2bkFzZz09 \nMeeting ID: 971 7829 3185 \nPasscode: letsplay
URL:https://www.worlddominatingbrand.com/event/world-dominating-fair-weekly-networking/2021-03-30/
LOCATION:Play For Success ZOOM Room\, Play For Success
ATTACH;FMTTYPE=image/jpeg:https://www.worlddominatingbrand.com/wp-content/uploads/2021/03/WDB-Calendar-Image-CIRCLE.001-1-e1624366830908.jpeg
ORGANIZER;CN="RUKE%20and%20blink":MAILTO:ruke@ruke.com
END:VEVENT
END:VCALENDAR