BEGIN:VCALENDAR
VERSION:2.0
PRODID:-//World Dominating Brand - ECPv5.5.0//NONSGML v1.0//EN
CALSCALE:GREGORIAN
METHOD:PUBLISH
X-WR-CALNAME:World Dominating Brand
X-ORIGINAL-URL:https://www.worlddominatingbrand.com
X-WR-CALDESC:Events for World Dominating Brand
BEGIN:VTIMEZONE
TZID:America/New_York
BEGIN:DAYLIGHT
TZOFFSETFROM:-0500
TZOFFSETTO:-0400
TZNAME:EDT
DTSTART:20210314T070000
END:DAYLIGHT
BEGIN:STANDARD
TZOFFSETFROM:-0400
TZOFFSETTO:-0500
TZNAME:EST
DTSTART:20211107T060000
END:STANDARD
END:VTIMEZONE
BEGIN:VEVENT
DTSTART;TZID=America/New_York:20210422T100000
DTEND;TZID=America/New_York:20210424T170000
DTSTAMP:20260424T144544
CREATED:20210327T144933Z
LAST-MODIFIED:20210424T142830Z
UID:1785-1619085600-1619283600@www.worlddominatingbrand.com
SUMMARY:World Dominating Experience
DESCRIPTION:The World Dominating Experience – Become a World Dominating Networker and Speaker!\nMeeting Link:  http://www.WDSession.com \nIf we have learned nothing else this past year\, it’s that making connections is vital to the health of our businesses. Therefore\, as the world is opening back up\, we as entrepreneurs need to step out with a Bang! It’s time to become a World Dominating Networker and Speaker…\nAt the World Dominating Experience\, you will… \n\nSpotlight your message and content through a lead magnet that gets you sales\nCraft your intro to grab attention\, establish your credibility and get on stages\nPractice pitching so that you’re ready to dominate any space you walk into\n\nThe World Dominating Experience is truly a workshop where together\, we will walk you through each step of the way plus you’ll gain live feedback on what you create. Between our pitching activities and content creation sessions\, you’ll walk away more prepared than ever to get the sales you deserve and dominate your world! \nRegister today at: \nhttps://www.eventbrite.com/e/the-world-dominating-experience-be-a-world-dominating-networker-speaker-tickets-150120838469 \nMeeting Link:  http://www.WDSession.com
URL:https://www.worlddominatingbrand.com/event/world-dominating-experience/
LOCATION:World Dominating Brand Zoom Room
ATTACH;FMTTYPE=image/jpeg:https://www.worlddominatingbrand.com/wp-content/uploads/2021/03/WDB-Calendar-Image-Experience.001.jpeg
ORGANIZER;CN="RUKE%20and%20blink":MAILTO:ruke@ruke.com
END:VEVENT
END:VCALENDAR