BEGIN:VCALENDAR
VERSION:2.0
PRODID:-//World Dominating Brand - ECPv5.5.0//NONSGML v1.0//EN
CALSCALE:GREGORIAN
METHOD:PUBLISH
X-WR-CALNAME:World Dominating Brand
X-ORIGINAL-URL:https://www.worlddominatingbrand.com
X-WR-CALDESC:Events for World Dominating Brand
BEGIN:VTIMEZONE
TZID:America/New_York
BEGIN:DAYLIGHT
TZOFFSETFROM:-0500
TZOFFSETTO:-0400
TZNAME:EDT
DTSTART:20210314T070000
END:DAYLIGHT
BEGIN:STANDARD
TZOFFSETFROM:-0400
TZOFFSETTO:-0500
TZNAME:EST
DTSTART:20211107T060000
END:STANDARD
END:VTIMEZONE
BEGIN:VEVENT
DTSTART;TZID=America/New_York:20210722T120000
DTEND;TZID=America/New_York:20210722T150000
DTSTAMP:20260424T000915
CREATED:20210424T180323Z
LAST-MODIFIED:20210707T184147Z
UID:2619-1626955200-1626966000@www.worlddominatingbrand.com
SUMMARY:World Dominating Experience - 3 Baller Ways We Make Selling Fun!
DESCRIPTION:3 Baller Ways We Make Selling Fun 🤯\n\nWe’re here to put a stop to the all too common sales struggle. We absolutely love sales because we know how to make it fun… And you can too! 🙂\nAt this workshop you will…\n\nDiscover how to have FUN selling\, and be successful at it\nOutline who your ideal customer is and what they actually want to buy\nDiscover how to give your best stuff away for free and still make money with it\nCreate a blueprint for a value-driven campaign that is fun for you and your lead\nUnderstand how to connect\, automate and track your leads\, sales\, and marketing with ease\n\nWay too many entrepreneurs and business owners cringe at the idea of selling. And honestly\, the traditional way of doing sales could make us cringe too. That’s why we love the way we do sales. Not only is it full of integrity\, with a no B.S. attitude\, but it’s truly a blast. That’s right… we have FUN!\n\n\nSo join us for the World Dominating Experience where we’re revealing our top-secret tool in how we scale our sales and marketing. (Hint: it’s baller)\nHere’s a sneak peek at what we’ll be covering:
URL:https://www.worlddominatingbrand.com/event/world-dominating-experience-3-day-event/
LOCATION:Play For Success ZOOM Room\, Play For Success
ATTACH;FMTTYPE=image/jpeg:https://www.worlddominatingbrand.com/wp-content/uploads/2021/04/World-Dominating™-Experience-0721-PROMO-ASSESTS.001-e1625683145305.jpeg
ORGANIZER;CN="RUKE%20and%20blink":MAILTO:ruke@ruke.com
END:VEVENT
END:VCALENDAR