BEGIN:VCALENDAR
VERSION:2.0
PRODID:-//World Dominating Brand - ECPv5.5.0//NONSGML v1.0//EN
CALSCALE:GREGORIAN
METHOD:PUBLISH
X-WR-CALNAME:World Dominating Brand
X-ORIGINAL-URL:https://www.worlddominatingbrand.com
X-WR-CALDESC:Events for World Dominating Brand
BEGIN:VTIMEZONE
TZID:America/New_York
BEGIN:DAYLIGHT
TZOFFSETFROM:-0500
TZOFFSETTO:-0400
TZNAME:EDT
DTSTART:20210314T070000
END:DAYLIGHT
BEGIN:STANDARD
TZOFFSETFROM:-0400
TZOFFSETTO:-0500
TZNAME:EST
DTSTART:20211107T060000
END:STANDARD
END:VTIMEZONE
BEGIN:VEVENT
DTSTART;TZID=America/New_York:20210504T130000
DTEND;TZID=America/New_York:20210504T135000
DTSTAMP:20260424T001109
CREATED:20210322T134835Z
LAST-MODIFIED:20210504T005329Z
UID:1479-1620133200-1620136200@www.worlddominatingbrand.com
SUMMARY:PRIVATE - World Dominating Alliance - Weekly Meeting
DESCRIPTION:TUESDAY’S WORLD DOMINATING ALLIANCE MINI WORKSHOP\n  \nCalendar on FIRE!!! Theme your days to honor your creative passions and family! ️\n  \nThis Week’s Discussion Question Is: \n“What do you want to see more of in your schedule?”\n\nEVERY TUESDAY\n1 pm – 2 pm EST / 11 am – 12 pm PST\nLet’s Play!
URL:https://www.worlddominatingbrand.com/event/members-world-dominating-alliance-weekly-meeting-2021-05-04/
ATTACH;FMTTYPE=image/jpeg:https://www.worlddominatingbrand.com/wp-content/uploads/2021/03/WDB-Calendar-Image-ALLIANCE.001-e1624367114649.jpeg
END:VEVENT
END:VCALENDAR